BEGIN:VCALENDAR
VERSION:2.0
PRODID:-//YES! Columbus - ECPv6.15.20//NONSGML v1.0//EN
CALSCALE:GREGORIAN
METHOD:PUBLISH
X-WR-CALNAME:YES! Columbus
X-ORIGINAL-URL:https://yes.dfscmh.org
X-WR-CALDESC:Events for YES! Columbus
REFRESH-INTERVAL;VALUE=DURATION:PT1H
X-Robots-Tag:noindex
X-PUBLISHED-TTL:PT1H
BEGIN:VTIMEZONE
TZID:America/New_York
BEGIN:DAYLIGHT
TZOFFSETFROM:-0500
TZOFFSETTO:-0400
TZNAME:EDT
DTSTART:20240310T070000
END:DAYLIGHT
BEGIN:STANDARD
TZOFFSETFROM:-0400
TZOFFSETTO:-0500
TZNAME:EST
DTSTART:20241103T060000
END:STANDARD
BEGIN:DAYLIGHT
TZOFFSETFROM:-0500
TZOFFSETTO:-0400
TZNAME:EDT
DTSTART:20250309T070000
END:DAYLIGHT
BEGIN:STANDARD
TZOFFSETFROM:-0400
TZOFFSETTO:-0500
TZNAME:EST
DTSTART:20251102T060000
END:STANDARD
BEGIN:DAYLIGHT
TZOFFSETFROM:-0500
TZOFFSETTO:-0400
TZNAME:EDT
DTSTART:20260308T070000
END:DAYLIGHT
BEGIN:STANDARD
TZOFFSETFROM:-0400
TZOFFSETTO:-0500
TZNAME:EST
DTSTART:20261101T060000
END:STANDARD
END:VTIMEZONE
BEGIN:VEVENT
DTSTART;TZID=America/New_York:20251113T183000
DTEND;TZID=America/New_York:20251113T213000
DTSTAMP:20260423T175248
CREATED:20251009T124407Z
LAST-MODIFIED:20251023T165820Z
UID:2702-1763058600-1763069400@yes.dfscmh.org
SUMMARY:CHEERS! to Success 2025
DESCRIPTION:Join us for CHEERS! to Success\, a celebration of the positive impacts we’ve made in 2025. We’ve volunteered our time\, created connections\, and raised funds to help empower women through the work of Dress for Success Columbus. \n\n\n\nJoin us at The Fives Columbus for our signature event where proceeds raised will help support the mission of Dress for Success Columbus! \n\n\n\nAt CHEERS! to Success\, you will enjoy… \n\n\n\n\nDress for Success Columbus Pop-Up Shop\n\n\n\nForever Link Permanent Jewelry Pop-Up Shop\n\n\n\nSilent Auction\n\n\n\nVIP-only Swag and Complimentary Glass of Champagne\n\n\n\nDJ Pastel\n\n\n\nHair Tinsel by Blo\n\n\n\nPhoto Booth by H&H Luxury Events\n\n\n\nKonfetti Ice Cream Cart\n\n\n\nHors d’Oeuvres and Desserts\n\n\n\nCash Bar\n\n\n\n\nSpecial thanks to the amazing partners & sponsors helping bring this celebration to life: \n\n\n\nThe Fives \n\n\n\nPinnacle Dental \n\n\n\nLandSel Title Agency\, Inc. \n\n\n\nBailey Cavalieri \n\n\n\nColumbus OB/GYN \n\n\n\nThe Fetherolf Group with Coldwell Banker Realty \n\n\n\nFirst Financial Bank \n\n\n\nReverse Aesthetics \n\n\n\nWell Balanced Women \n\n\n\nNeighborhood Loans \n\n\n\nNow CFO \n\n\n\nDJ Pastel \n\n\n\nForever Link Permanent Jewelry \n\n\n\nH&H Luxury Events \n\n\n\nBlo Lewis Center \n\n\n\nKonfetti Carts \n\n\n\nBreedlove Bakery \n\n\n\nNothing Bundt Cakes
URL:https://yes.dfscmh.org/event/cheers-to-success-2025-2/
LOCATION:The Fives Columbus\, 550 Reach Blvd\, Columbus\, Ohio\, 43215\, United States
ATTACH;FMTTYPE=image/jpeg:https://yes.dfscmh.org/wp-content/uploads/2025/10/362EFC79-20CC-40A9-BFB0-0715D01623C4.jpeg
END:VEVENT
BEGIN:VEVENT
DTSTART;TZID=America/New_York:20251115T090000
DTEND;TZID=America/New_York:20251115T160000
DTSTAMP:20260423T175248
CREATED:20250826T001834Z
LAST-MODIFIED:20251006T215313Z
UID:2678-1763197200-1763222400@yes.dfscmh.org
SUMMARY:Level Up Summit
DESCRIPTION:
URL:https://yes.dfscmh.org/event/level-up-summit/
END:VEVENT
END:VCALENDAR